BEGIN:VCALENDAR
VERSION:2.0
PRODID:-//Störtebeker Bremer Paddelsport - ECPv6.15.20//NONSGML v1.0//EN
CALSCALE:GREGORIAN
METHOD:PUBLISH
X-WR-CALNAME:Störtebeker Bremer Paddelsport
X-ORIGINAL-URL:https://stoertebeker-bremen.com
X-WR-CALDESC:Veranstaltungen für Störtebeker Bremer Paddelsport
REFRESH-INTERVAL;VALUE=DURATION:PT1H
X-Robots-Tag:noindex
X-PUBLISHED-TTL:PT1H
BEGIN:VTIMEZONE
TZID:Europe/Berlin
BEGIN:DAYLIGHT
TZOFFSETFROM:+0100
TZOFFSETTO:+0200
TZNAME:CEST
DTSTART:20240331T010000
END:DAYLIGHT
BEGIN:STANDARD
TZOFFSETFROM:+0200
TZOFFSETTO:+0100
TZNAME:CET
DTSTART:20241027T010000
END:STANDARD
BEGIN:DAYLIGHT
TZOFFSETFROM:+0100
TZOFFSETTO:+0200
TZNAME:CEST
DTSTART:20250330T010000
END:DAYLIGHT
BEGIN:STANDARD
TZOFFSETFROM:+0200
TZOFFSETTO:+0100
TZNAME:CET
DTSTART:20251026T010000
END:STANDARD
BEGIN:DAYLIGHT
TZOFFSETFROM:+0100
TZOFFSETTO:+0200
TZNAME:CEST
DTSTART:20260329T010000
END:DAYLIGHT
BEGIN:STANDARD
TZOFFSETFROM:+0200
TZOFFSETTO:+0100
TZNAME:CET
DTSTART:20261025T010000
END:STANDARD
END:VTIMEZONE
BEGIN:VEVENT
DTSTART;VALUE=DATE:20250904
DTEND;VALUE=DATE:20250908
DTSTAMP:20260420T112738
CREATED:20241230T150003Z
LAST-MODIFIED:20241230T150003Z
UID:10000652-1756944000-1757289599@stoertebeker-bremen.com
SUMMARY:WM Györ / Ungarn
DESCRIPTION:
URL:https://stoertebeker-bremen.com/veranstaltung/wm-gyoer-ungarn/
CATEGORIES:Marathon,Marathon
ORGANIZER;CN="Karl Paufler":MAILTO:sportwart@stoertebeker-bremen.de
END:VEVENT
BEGIN:VEVENT
DTSTART;VALUE=DATE:20250906
DTEND;VALUE=DATE:20250907
DTSTAMP:20260420T112738
CREATED:20241230T145311Z
LAST-MODIFIED:20241230T145311Z
UID:10000650-1757116800-1757203199@stoertebeker-bremen.com
SUMMARY:Bremer Blockland-Marathon
DESCRIPTION:(Lesum/Wümme 25 bzw. 41 km)
URL:https://stoertebeker-bremen.com/veranstaltung/bremer-blockland-marathon/
CATEGORIES:Marathon,Marathon,Wanderfahrten,Wanderfahrten
END:VEVENT
BEGIN:VEVENT
DTSTART;VALUE=DATE:20250906
DTEND;VALUE=DATE:20250908
DTSTAMP:20260420T112738
CREATED:20241230T145540Z
LAST-MODIFIED:20241230T145540Z
UID:10000651-1757116800-1757289599@stoertebeker-bremen.com
SUMMARY:Schwartau-Abfahrtsrennen
DESCRIPTION:
URL:https://stoertebeker-bremen.com/veranstaltung/schwartau-abfahrtsrennen/
CATEGORIES:Wildwasser,Wildwasser
ORGANIZER;CN="Karl Paufler":MAILTO:sportwart@stoertebeker-bremen.de
END:VEVENT
BEGIN:VEVENT
DTSTART;VALUE=DATE:20250910
DTEND;VALUE=DATE:20250915
DTSTAMP:20260420T112738
CREATED:20241230T152829Z
LAST-MODIFIED:20241230T152829Z
UID:10000682-1757462400-1757894399@stoertebeker-bremen.com
SUMMARY:TL und Wettkampf Deutsche Schülermeisterschaft Bad Kreuznach
DESCRIPTION:
URL:https://stoertebeker-bremen.com/veranstaltung/tl-und-wettkampf-deutsche-schuelermeisterschaft-bad-kreuznach/
CATEGORIES:Slalom,Slalom
ORGANIZER;CN="Mathias Winkler":MAILTO:slalom@stoertebeker-bremen.de
END:VEVENT
BEGIN:VEVENT
DTSTART;VALUE=DATE:20250910
DTEND;VALUE=DATE:20250915
DTSTAMP:20260420T112738
CREATED:20241230T152921Z
LAST-MODIFIED:20241230T152921Z
UID:10000683-1757462400-1757894399@stoertebeker-bremen.com
SUMMARY:Wettkampf Luhdorf
DESCRIPTION:
URL:https://stoertebeker-bremen.com/veranstaltung/wettkampf-luhdorf/
CATEGORIES:Slalom,Slalom
ORGANIZER;CN="Mathias Winkler":MAILTO:slalom@stoertebeker-bremen.de
END:VEVENT
BEGIN:VEVENT
DTSTART;TZID=Europe/Berlin:20250913T170000
DTEND;TZID=Europe/Berlin:20250913T170000
DTSTAMP:20260420T112738
CREATED:20241230T133714Z
LAST-MODIFIED:20250828T185545Z
UID:10000620-1757782800-1757782800@stoertebeker-bremen.com
SUMMARY:Grillfest Störtebeker
DESCRIPTION:
URL:https://stoertebeker-bremen.com/veranstaltung/grillfest-stoertebeker/
LOCATION:Störtebeker Bremer Paddelsport\, Auf dem Wummenstück 2\, Bremen\, Bremen\, Deutschland
CATEGORIES:Verein
GEO:53.1045832;8.8479092
X-APPLE-STRUCTURED-LOCATION;VALUE=URI;X-ADDRESS=Störtebeker Bremer Paddelsport Auf dem Wummenstück 2 Bremen Bremen Deutschland;X-APPLE-RADIUS=500;X-TITLE=Auf dem Wummenstück 2:geo:8.8479092,53.1045832
END:VEVENT
BEGIN:VEVENT
DTSTART;VALUE=DATE:20250920
DTEND;VALUE=DATE:20250922
DTSTAMP:20260420T112738
CREATED:20240131T140427Z
LAST-MODIFIED:20250118T103436Z
UID:10000586-1758326400-1758499199@stoertebeker-bremen.com
SUMMARY:Hengelo / NL
DESCRIPTION:
URL:https://stoertebeker-bremen.com/veranstaltung/hengelo-nl-2/
CATEGORIES:Rennsport,Rennsport
ORGANIZER;CN="Karl Paufler":MAILTO:sportwart@stoertebeker-bremen.de
END:VEVENT
BEGIN:VEVENT
DTSTART;TZID=Europe/Berlin:20250926T180000
DTEND;TZID=Europe/Berlin:20250926T210000
DTSTAMP:20260420T112738
CREATED:20241026T092412Z
LAST-MODIFIED:20241026T092412Z
UID:10000605-1758909600-1758920400@stoertebeker-bremen.com
SUMMARY:Störtebeker Lampionfahrt
DESCRIPTION:Strecke: Torfkanal \nDistanz: 10 km \nAnmeldung bis: 25. September
URL:https://stoertebeker-bremen.com/veranstaltung/stoertebeker-lampionfahrt/
CATEGORIES:Wanderfahrten,Wanderfahrten
ORGANIZER;CN="Reiner Voigt":MAILTO:wanderwart@stoertebeker-bremen.de
END:VEVENT
BEGIN:VEVENT
DTSTART;VALUE=DATE:20250927
DTEND;VALUE=DATE:20250929
DTSTAMP:20260420T112738
CREATED:20241230T150055Z
LAST-MODIFIED:20241230T150055Z
UID:10000653-1758931200-1759103999@stoertebeker-bremen.com
SUMMARY:Oker / Braunschweig
DESCRIPTION:
URL:https://stoertebeker-bremen.com/veranstaltung/oker-braunschweig/
CATEGORIES:Wildwasser,Wildwasser
ORGANIZER;CN="Karl Paufler":MAILTO:sportwart@stoertebeker-bremen.de
END:VEVENT
BEGIN:VEVENT
DTSTART;TZID=Europe/Berlin:20250928T100000
DTEND;TZID=Europe/Berlin:20250928T170000
DTSTAMP:20260420T112738
CREATED:20241026T092804Z
LAST-MODIFIED:20241026T092804Z
UID:10000606-1759053600-1759078800@stoertebeker-bremen.com
SUMMARY:Saisonabschlussfahrt LKV
DESCRIPTION:Strecke: Ochtum \nDistanz: 15 km \nAnmeldung bis: 22. September
URL:https://stoertebeker-bremen.com/veranstaltung/saisonabschlussfahrt-lkv/
CATEGORIES:Wanderfahrten,Wanderfahrten
ORGANIZER;CN="Reiner Voigt":MAILTO:wanderwart@stoertebeker-bremen.de
END:VEVENT
END:VCALENDAR